BEGIN:VCALENDAR
VERSION:2.0
PRODID:-//pretix//pretix-PROD_Wien//
BEGIN:VEVENT
UID:pretix-baeder-theresienbad-20209@ticket.wien.gv.at
DTSTART;VALUE=DATE:20220206
DTEND;VALUE=DATE:20220207
DESCRIPTION:Tickets: https://ticket.wien.gv.at/baeder/theresienbad/20209/\n
 Veranstalter: MA 44 Wiener Bäder
DTSTAMP:20260425T215658Z
SUMMARY:Badegäste So.
END:VEVENT
END:VCALENDAR
