BEGIN:VCALENDAR
VERSION:2.0
PRODID:-//pretix//pretix-PROD_Wien//
BEGIN:VEVENT
UID:pretix-baeder-theresienbad-20072@ticket.wien.gv.at
DTSTART;VALUE=DATE:20220128
DTEND;VALUE=DATE:20220129
DESCRIPTION:Tickets: https://ticket.wien.gv.at/baeder/theresienbad/20072/\n
 Veranstalter: MA 44 Wiener Bäder
DTSTAMP:20260425T202633Z
SUMMARY:Badegäste Fr.
END:VEVENT
END:VCALENDAR
