BEGIN:VCALENDAR
VERSION:2.0
PRODID:-//pretix//pretix-PROD_Wien//
BEGIN:VEVENT
UID:pretix-baeder-theresienbad-19961@ticket.wien.gv.at
DTSTART;VALUE=DATE:20220121
DTEND;VALUE=DATE:20220122
DESCRIPTION:Tickets: https://ticket.wien.gv.at/baeder/theresienbad/19961/\n
 Veranstalter: MA 44 Wiener Bäder
DTSTAMP:20260425T185336Z
SUMMARY:Badegäste Fr.
END:VEVENT
END:VCALENDAR
