BEGIN:VCALENDAR
VERSION:2.0
PRODID:-//pretix//pretix-PROD_Wien//
BEGIN:VEVENT
UID:pretix-baeder-theresienbad-19919@ticket.wien.gv.at
DTSTART;VALUE=DATE:20220119
DTEND;VALUE=DATE:20220120
DESCRIPTION:Tickets: https://ticket.wien.gv.at/baeder/theresienbad/19919/\n
 Veranstalter: MA 44 Wiener Bäder
DTSTAMP:20260425T202634Z
SUMMARY:Badegäste Mi.
END:VEVENT
END:VCALENDAR
