BEGIN:VCALENDAR
VERSION:2.0
PRODID:-//pretix//pretix-PROD_Wien//
BEGIN:VEVENT
UID:pretix-baeder-theresienbad-19850@ticket.wien.gv.at
DTSTART;VALUE=DATE:20220114
DTEND;VALUE=DATE:20220115
DESCRIPTION:Tickets: https://ticket.wien.gv.at/baeder/theresienbad/19850/\n
 Veranstalter: MA 44 Wiener Bäder
DTSTAMP:20260426T041603Z
SUMMARY:Badegäste Fr.
END:VEVENT
END:VCALENDAR
