BEGIN:VCALENDAR
VERSION:2.0
PRODID:-//pretix//pretix-PROD_Wien//
BEGIN:VEVENT
UID:pretix-baeder-theresienbad-19825@ticket.wien.gv.at
DTSTART;VALUE=DATE:20220113
DTEND;VALUE=DATE:20220114
DESCRIPTION:Tickets: https://ticket.wien.gv.at/baeder/theresienbad/19825/\n
 Veranstalter: MA 44 Wiener Bäder
DTSTAMP:20260425T225421Z
SUMMARY:Badegäste Di./Do.
END:VEVENT
END:VCALENDAR
