BEGIN:VCALENDAR
VERSION:2.0
PRODID:-//pretix//pretix-PROD_Wien//
BEGIN:VEVENT
UID:pretix-baeder-theresienbad-19724@ticket.wien.gv.at
DTSTART;VALUE=DATE:20220105
DTEND;VALUE=DATE:20220106
DESCRIPTION:Tickets: https://ticket.wien.gv.at/baeder/theresienbad/19724/\n
 Veranstalter: MA 44 Wiener Bäder
DTSTAMP:20260425T225421Z
SUMMARY:Ferien Badegäste 5.1.2022
END:VEVENT
END:VCALENDAR
