BEGIN:VCALENDAR
VERSION:2.0
PRODID:-//pretix//pretix-PROD_Wien//
BEGIN:VEVENT
UID:pretix-baeder-theresienbad-19713@ticket.wien.gv.at
DTSTART;VALUE=DATE:20220104
DTEND;VALUE=DATE:20220105
DESCRIPTION:Tickets: https://ticket.wien.gv.at/baeder/theresienbad/19713/\n
 Veranstalter: MA 44 Wiener Bäder
DTSTAMP:20260426T003605Z
SUMMARY:Ferien Badegäste 4.1.2022
END:VEVENT
END:VCALENDAR
