BEGIN:VCALENDAR
VERSION:2.0
PRODID:-//pretix//pretix-PROD_Wien//
BEGIN:VEVENT
UID:pretix-baeder-theresienbad-19698@ticket.wien.gv.at
DTSTART;VALUE=DATE:20220102
DTEND;VALUE=DATE:20220103
DESCRIPTION:Tickets: https://ticket.wien.gv.at/baeder/theresienbad/19698/\n
 Veranstalter: MA 44 Wiener Bäder
DTSTAMP:20260425T215655Z
SUMMARY:Ferien Badegäste 2.1.2022
END:VEVENT
END:VCALENDAR
