BEGIN:VCALENDAR
VERSION:2.0
PRODID:-//pretix//pretix-PROD_Wien//
BEGIN:VEVENT
UID:pretix-baeder-theresienbad-19669@ticket.wien.gv.at
DTSTART;VALUE=DATE:20211229
DTEND;VALUE=DATE:20211230
DESCRIPTION:Tickets: https://ticket.wien.gv.at/baeder/theresienbad/19669/\n
 Veranstalter: MA 44 Wiener Bäder
DTSTAMP:20260425T205605Z
SUMMARY:Ferien Badegäste 29.12.2021
END:VEVENT
END:VCALENDAR
