BEGIN:VCALENDAR
VERSION:2.0
PRODID:-//pretix//pretix-PROD_Wien//
BEGIN:VEVENT
UID:pretix-baeder-theresienbad-19634@ticket.wien.gv.at
DTSTART;VALUE=DATE:20211224
DTEND;VALUE=DATE:20211225
DESCRIPTION:Tickets: https://ticket.wien.gv.at/baeder/theresienbad/19634/\n
 Veranstalter: MA 44 Wiener Bäder
DTSTAMP:20260426T011411Z
SUMMARY:Ferien Badegäste 24.12.2021
END:VEVENT
END:VCALENDAR
