BEGIN:VCALENDAR
VERSION:2.0
PRODID:-//pretix//pretix-PROD_Wien//
BEGIN:VEVENT
UID:pretix-baeder-theresienbad-19591@ticket.wien.gv.at
DTSTART;VALUE=DATE:20211221
DTEND;VALUE=DATE:20211222
DESCRIPTION:Tickets: https://ticket.wien.gv.at/baeder/theresienbad/19591/\n
 Veranstalter: MA 44 Wiener Bäder
DTSTAMP:20260425T205548Z
SUMMARY:Badegäste Di./Do.
END:VEVENT
END:VCALENDAR
