BEGIN:VCALENDAR
VERSION:2.0
PRODID:-//pretix//pretix-PROD_Wien//
BEGIN:VEVENT
UID:pretix-baeder-theresienbad-19413@ticket.wien.gv.at
DTSTART;VALUE=DATE:20211209
DTEND;VALUE=DATE:20211210
DESCRIPTION:Tickets: https://ticket.wien.gv.at/baeder/theresienbad/19413/\n
 Veranstalter: MA 44 Wiener Bäder
DTSTAMP:20260426T003605Z
SUMMARY:Eintritt Theresienbad
END:VEVENT
END:VCALENDAR
