BEGIN:VCALENDAR
VERSION:2.0
PRODID:-//pretix//pretix-PROD_Wien//
BEGIN:VEVENT
UID:pretix-baeder-theresienbad-19284@ticket.wien.gv.at
DTSTART;VALUE=DATE:20211120
DTEND;VALUE=DATE:20211121
DESCRIPTION:Tickets: https://ticket.wien.gv.at/baeder/theresienbad/19284/\n
 Veranstalter: MA 44 Wiener Bäder
DTSTAMP:20260426T041603Z
SUMMARY:Eintritt Theresienbad
END:VEVENT
END:VCALENDAR
