BEGIN:VCALENDAR
VERSION:2.0
PRODID:-//pretix//pretix-PROD_Wien//
BEGIN:VEVENT
UID:pretix-baeder-theresienbad-19048@ticket.wien.gv.at
DTSTART;VALUE=DATE:20211105
DTEND;VALUE=DATE:20211106
DESCRIPTION:Tickets: https://ticket.wien.gv.at/baeder/theresienbad/19048/\n
 Veranstalter: MA 44 Wiener Bäder
DTSTAMP:20260425T163504Z
SUMMARY:Eintritt Theresienbad
END:VEVENT
END:VCALENDAR
