BEGIN:VCALENDAR
VERSION:2.0
PRODID:-//pretix//pretix-PROD_Wien//
BEGIN:VEVENT
UID:pretix-baeder-theresienbad-16663@ticket.wien.gv.at
DTSTART;VALUE=DATE:20211006
DTEND;VALUE=DATE:20211007
DESCRIPTION:Tickets: https://ticket.wien.gv.at/baeder/theresienbad/16663/\n
 Veranstalter: MA 44 Wiener Bäder
DTSTAMP:20260425T215820Z
SUMMARY:Eintritt Theresienbad
END:VEVENT
END:VCALENDAR
