BEGIN:VCALENDAR
VERSION:2.0
PRODID:-//pretix//pretix-PROD_Wien//
BEGIN:VEVENT
UID:pretix-baeder-theresienbad-11351@ticket.wien.gv.at
DTSTART;VALUE=DATE:20211003
DTEND;VALUE=DATE:20211004
DESCRIPTION:Tickets: https://ticket.wien.gv.at/baeder/theresienbad/11351/\n
 Veranstalter: MA 44 Wiener Bäder
DTSTAMP:20260426T003603Z
SUMMARY:Eintritt Theresienbad
END:VEVENT
END:VCALENDAR
