BEGIN:VCALENDAR
VERSION:2.0
PRODID:-//pretix//pretix-PROD_Wien//
BEGIN:VEVENT
UID:pretix-baeder-simmering-79582@ticket.wien.gv.at
DTSTART;VALUE=DATE:20260313
DTEND;VALUE=DATE:20260314
DESCRIPTION:Tickets: https://ticket.wien.gv.at/baeder/simmering/79582/\nVer
 anstalter: MA 44 Wiener Bäder
DTSTAMP:20260426T032134Z
SUMMARY:Badegäste Frühschwimmen
END:VEVENT
END:VCALENDAR
