BEGIN:VCALENDAR
VERSION:2.0
PRODID:-//pretix//pretix-PROD_Wien//
BEGIN:VEVENT
UID:pretix-baeder-simmering-79540@ticket.wien.gv.at
DTSTART;VALUE=DATE:20260311
DTEND;VALUE=DATE:20260312
DESCRIPTION:Tickets: https://ticket.wien.gv.at/baeder/simmering/79540/\nVer
 anstalter: MA 44 Wiener Bäder
DTSTAMP:20260423T114012Z
SUMMARY:Badegäste Mi.
END:VEVENT
END:VCALENDAR
