BEGIN:VCALENDAR
VERSION:2.0
PRODID:-//pretix//pretix-PROD_Wien//
BEGIN:VEVENT
UID:pretix-baeder-simmering-79487@ticket.wien.gv.at
DTSTART;VALUE=DATE:20260308
DTEND;VALUE=DATE:20260309
DESCRIPTION:Tickets: https://ticket.wien.gv.at/baeder/simmering/79487/\nVer
 anstalter: MA 44 Wiener Bäder
DTSTAMP:20260420T154420Z
SUMMARY:Badegäste So.
END:VEVENT
END:VCALENDAR
