BEGIN:VCALENDAR
VERSION:2.0
PRODID:-//pretix//pretix-PROD_Wien//
BEGIN:VEVENT
UID:pretix-baeder-simmering-25631@ticket.wien.gv.at
DTSTART;VALUE=DATE:20221015
DTEND;VALUE=DATE:20221016
DESCRIPTION:Tickets: https://ticket.wien.gv.at/baeder/simmering/25631/\nVer
 anstalter: MA 44 Wiener Bäder
DTSTAMP:20260419T150417Z
SUMMARY:Badegäste Sa.
END:VEVENT
END:VCALENDAR
