BEGIN:VCALENDAR
VERSION:2.0
PRODID:-//pretix//pretix-PROD_Wien//
BEGIN:VEVENT
UID:pretix-baeder-simmering-22866@ticket.wien.gv.at
DTSTART;VALUE=DATE:20220619
DTEND;VALUE=DATE:20220620
DESCRIPTION:Tickets: https://ticket.wien.gv.at/baeder/simmering/22866/\nVer
 anstalter: MA 44 Wiener Bäder
DTSTAMP:20260420T001334Z
SUMMARY:Badegäste Freibad Sa/So
END:VEVENT
END:VCALENDAR
