BEGIN:VCALENDAR
VERSION:2.0
PRODID:-//pretix//pretix-PROD_Wien//
BEGIN:VEVENT
UID:pretix-baeder-simmering-21928@ticket.wien.gv.at
DTSTART;VALUE=DATE:20220521
DTEND;VALUE=DATE:20220522
DESCRIPTION:Tickets: https://ticket.wien.gv.at/baeder/simmering/21928/\nVer
 anstalter: MA 44 Wiener Bäder
DTSTAMP:20260420T104839Z
SUMMARY:Badegäste Freibad Sa/So
END:VEVENT
END:VCALENDAR
