BEGIN:VCALENDAR
VERSION:2.0
PRODID:-//pretix//pretix-PROD_Wien//
BEGIN:VEVENT
UID:pretix-baeder-simmering-21544@ticket.wien.gv.at
DTSTART;VALUE=DATE:20220509
DTEND;VALUE=DATE:20220510
DESCRIPTION:Tickets: https://ticket.wien.gv.at/baeder/simmering/21544/\nVer
 anstalter: MA 44 Wiener Bäder
DTSTAMP:20260420T111317Z
SUMMARY:Badegäste Freibad Mo-Fr
END:VEVENT
END:VCALENDAR
