BEGIN:VCALENDAR
VERSION:2.0
PRODID:-//pretix//pretix-PROD_Wien//
BEGIN:VEVENT
UID:pretix-baeder-simmering-20757@ticket.wien.gv.at
DTSTART;VALUE=DATE:20220316
DTEND;VALUE=DATE:20220317
DESCRIPTION:Tickets: https://ticket.wien.gv.at/baeder/simmering/20757/\nVer
 anstalter: MA 44 Wiener Bäder
DTSTAMP:20260421T210517Z
SUMMARY:Badegäste Mi.
END:VEVENT
END:VCALENDAR
