BEGIN:VCALENDAR
VERSION:2.0
PRODID:-//pretix//pretix-PROD_Wien//
BEGIN:VEVENT
UID:pretix-baeder-simmering-20740@ticket.wien.gv.at
DTSTART;VALUE=DATE:20220315
DTEND;VALUE=DATE:20220316
DESCRIPTION:Tickets: https://ticket.wien.gv.at/baeder/simmering/20740/\nVer
 anstalter: MA 44 Wiener Bäder
DTSTAMP:20260421T210518Z
SUMMARY:Badegäste Di./Do.
END:VEVENT
END:VCALENDAR
