BEGIN:VCALENDAR
VERSION:2.0
PRODID:-//pretix//pretix-PROD_Wien//
BEGIN:VEVENT
UID:pretix-baeder-simmering-20415@ticket.wien.gv.at
DTSTART;VALUE=DATE:20220222
DTEND;VALUE=DATE:20220223
DESCRIPTION:Tickets: https://ticket.wien.gv.at/baeder/simmering/20415/\nVer
 anstalter: MA 44 Wiener Bäder
DTSTAMP:20260422T111107Z
SUMMARY:Badegäste Di./Do.
END:VEVENT
END:VCALENDAR
