BEGIN:VCALENDAR
VERSION:2.0
PRODID:-//pretix//pretix-PROD_Wien//
BEGIN:VEVENT
UID:pretix-baeder-simmering-20377@ticket.wien.gv.at
DTSTART;VALUE=DATE:20220219
DTEND;VALUE=DATE:20220220
DESCRIPTION:Tickets: https://ticket.wien.gv.at/baeder/simmering/20377/\nVer
 anstalter: MA 44 Wiener Bäder
DTSTAMP:20260422T201932Z
SUMMARY:Badegäste Sa.
END:VEVENT
END:VCALENDAR
