BEGIN:VCALENDAR
VERSION:2.0
PRODID:-//pretix//pretix-PROD_Wien//
BEGIN:VEVENT
UID:pretix-baeder-simmering-20123@ticket.wien.gv.at
DTSTART;VALUE=DATE:20220201
DTEND;VALUE=DATE:20220202
DESCRIPTION:Tickets: https://ticket.wien.gv.at/baeder/simmering/20123/\nVer
 anstalter: MA 44 Wiener Bäder
DTSTAMP:20260422T184349Z
SUMMARY:Badegäste Di./Do.
END:VEVENT
END:VCALENDAR
