BEGIN:VCALENDAR
VERSION:2.0
PRODID:-//pretix//pretix-PROD_Wien//
BEGIN:VEVENT
UID:pretix-baeder-simmering-19477@ticket.wien.gv.at
DTSTART;VALUE=DATE:20211214
DTEND;VALUE=DATE:20211215
DESCRIPTION:Tickets: https://ticket.wien.gv.at/baeder/simmering/19477/\nVer
 anstalter: MA 44 Wiener Bäder
DTSTAMP:20260426T032136Z
SUMMARY:Badegäste Di./Do.
END:VEVENT
END:VCALENDAR
