BEGIN:VCALENDAR
VERSION:2.0
PRODID:-//pretix//pretix-PROD_Wien//
BEGIN:VEVENT
UID:pretix-baeder-schafbergbad-6978@ticket.wien.gv.at
DTSTART;VALUE=DATE:20210916
DTEND;VALUE=DATE:20210917
DESCRIPTION:Tickets: https://ticket.wien.gv.at/baeder/schafbergbad/6978/\nV
 eranstalter: MA 44 Wiener Bäder
DTSTAMP:20260424T165853Z
SUMMARY:Eintritt Schafbergbad
END:VEVENT
END:VCALENDAR
