BEGIN:VCALENDAR
VERSION:2.0
PRODID:-//pretix//pretix-PROD_Wien//
BEGIN:VEVENT
UID:pretix-baeder-schafbergbad-6956@ticket.wien.gv.at
DTSTART;VALUE=DATE:20210915
DTEND;VALUE=DATE:20210916
DESCRIPTION:Tickets: https://ticket.wien.gv.at/baeder/schafbergbad/6956/\nV
 eranstalter: MA 44 Wiener Bäder
DTSTAMP:20260422T082604Z
SUMMARY:Eintritt Schafbergbad
END:VEVENT
END:VCALENDAR
