BEGIN:VCALENDAR
VERSION:2.0
PRODID:-//pretix//pretix-PROD_Wien//
BEGIN:VEVENT
UID:pretix-baeder-schafbergbad-6824@ticket.wien.gv.at
DTSTART;VALUE=DATE:20210909
DTEND;VALUE=DATE:20210910
DESCRIPTION:Tickets: https://ticket.wien.gv.at/baeder/schafbergbad/6824/\nV
 eranstalter: MA 44 Wiener Bäder
DTSTAMP:20260425T154801Z
SUMMARY:Eintritt Schafbergbad
END:VEVENT
END:VCALENDAR
