BEGIN:VCALENDAR
VERSION:2.0
PRODID:-//pretix//pretix-PROD_Wien//
BEGIN:VEVENT
UID:pretix-baeder-schafbergbad-5966@ticket.wien.gv.at
DTSTART;VALUE=DATE:20210801
DTEND;VALUE=DATE:20210802
DESCRIPTION:Tickets: https://ticket.wien.gv.at/baeder/schafbergbad/5966/\nV
 eranstalter: MA 44 Wiener Bäder
DTSTAMP:20260425T160845Z
SUMMARY:Eintritt Schafbergbad
END:VEVENT
END:VCALENDAR
