BEGIN:VCALENDAR
VERSION:2.0
PRODID:-//pretix//pretix-PROD_Wien//
BEGIN:VEVENT
UID:pretix-baeder-schafbergbad-5857@ticket.wien.gv.at
DTSTART;VALUE=DATE:20210727
DTEND;VALUE=DATE:20210728
DESCRIPTION:Tickets: https://ticket.wien.gv.at/baeder/schafbergbad/5857/\nV
 eranstalter: MA 44 Wiener Bäder
DTSTAMP:20260425T161936Z
SUMMARY:Eintritt Schafbergbad
END:VEVENT
END:VCALENDAR
