BEGIN:VCALENDAR
VERSION:2.0
PRODID:-//pretix//pretix-PROD_Wien//
BEGIN:VEVENT
UID:pretix-baeder-schafbergbad-4798@ticket.wien.gv.at
DTSTART;VALUE=DATE:20210609
DTEND;VALUE=DATE:20210610
DESCRIPTION:Tickets: https://ticket.wien.gv.at/baeder/schafbergbad/4798/\nV
 eranstalter: MA 44 Wiener Bäder
DTSTAMP:20260425T154801Z
SUMMARY:Eintritt Schafbergbad
END:VEVENT
END:VCALENDAR
