BEGIN:VCALENDAR
VERSION:2.0
PRODID:-//pretix//pretix-PROD_Wien//
BEGIN:VEVENT
UID:pretix-baeder-schafbergbad-4643@ticket.wien.gv.at
DTSTART;VALUE=DATE:20210602
DTEND;VALUE=DATE:20210603
DESCRIPTION:Tickets: https://ticket.wien.gv.at/baeder/schafbergbad/4643/\nV
 eranstalter: MA 44 Wiener Bäder
DTSTAMP:20260424T165855Z
SUMMARY:Eintritt Schafbergbad
END:VEVENT
END:VCALENDAR
