BEGIN:VCALENDAR
VERSION:2.0
PRODID:-//pretix//pretix-PROD_Wien//
BEGIN:VEVENT
UID:pretix-baeder-schafbergbad-24125@ticket.wien.gv.at
DTSTART;VALUE=DATE:20220804
DTEND;VALUE=DATE:20220805
DESCRIPTION:Tickets: https://ticket.wien.gv.at/baeder/schafbergbad/24125/\n
 Veranstalter: MA 44 Wiener Bäder
DTSTAMP:20260421T071515Z
SUMMARY:Badegäste Freibad Mo-Fr
END:VEVENT
END:VCALENDAR
