BEGIN:VCALENDAR
VERSION:2.0
PRODID:-//pretix//pretix-PROD_Wien//
BEGIN:VEVENT
UID:pretix-baeder-schafbergbad-21898@ticket.wien.gv.at
DTSTART;VALUE=DATE:20220520
DTEND;VALUE=DATE:20220521
DESCRIPTION:Tickets: https://ticket.wien.gv.at/baeder/schafbergbad/21898/\n
 Veranstalter: MA 44 Wiener Bäder
DTSTAMP:20260422T115128Z
SUMMARY:Badegäste Freibad Mo-Fr
END:VEVENT
END:VCALENDAR
