BEGIN:VCALENDAR
VERSION:2.0
PRODID:-//pretix//pretix-PROD_Wien//
BEGIN:VEVENT
UID:pretix-baeder-schafbergbad-21515@ticket.wien.gv.at
DTSTART;VALUE=DATE:20220508
DTEND;VALUE=DATE:20220509
DESCRIPTION:Tickets: https://ticket.wien.gv.at/baeder/schafbergbad/21515/\n
 Veranstalter: MA 44 Wiener Bäder
DTSTAMP:20260423T053648Z
SUMMARY:Badegäste Freibad Sa/So
END:VEVENT
END:VCALENDAR
