BEGIN:VCALENDAR
VERSION:2.0
PRODID:-//pretix//pretix-PROD_Wien//
BEGIN:VEVENT
UID:pretix-baeder-ottakring-80828@ticket.wien.gv.at
DTSTART;VALUE=DATE:20260424
DTEND;VALUE=DATE:20260425
DESCRIPTION:Tickets: https://ticket.wien.gv.at/baeder/ottakring/80828/\nVer
 anstalter: MA 44 Wiener Bäder
DTSTAMP:20260422T015542Z
SUMMARY:Badegäste Frühschwimmen
END:VEVENT
END:VCALENDAR
