BEGIN:VCALENDAR
VERSION:2.0
PRODID:-//pretix//pretix-PROD_Wien//
BEGIN:VEVENT
UID:pretix-baeder-ottakring-79452@ticket.wien.gv.at
DTSTART;VALUE=DATE:20260306
DTEND;VALUE=DATE:20260307
DESCRIPTION:Tickets: https://ticket.wien.gv.at/baeder/ottakring/79452/\nVer
 anstalter: MA 44 Wiener Bäder
DTSTAMP:20260419T173704Z
SUMMARY:Badegäste Fr.
END:VEVENT
END:VCALENDAR
