BEGIN:VCALENDAR
VERSION:2.0
PRODID:-//pretix//pretix-PROD_Wien//
BEGIN:VEVENT
UID:pretix-baeder-ottakring-75806@ticket.wien.gv.at
DTSTART;VALUE=DATE:20251209
DTEND;VALUE=DATE:20251210
DESCRIPTION:Tickets: https://ticket.wien.gv.at/baeder/ottakring/75806/\nVer
 anstalter: MA 44 Wiener Bäder
DTSTAMP:20260422T043852Z
SUMMARY:Badegäste Di./Do.
END:VEVENT
END:VCALENDAR
