BEGIN:VCALENDAR
VERSION:2.0
PRODID:-//pretix//pretix-PROD_Wien//
BEGIN:VEVENT
UID:pretix-baeder-ottakring-74472@ticket.wien.gv.at
DTSTART;VALUE=DATE:20251202
DTEND;VALUE=DATE:20251203
DESCRIPTION:Tickets: https://ticket.wien.gv.at/baeder/ottakring/74472/\nVer
 anstalter: MA 44 Wiener Bäder
DTSTAMP:20260421T033720Z
SUMMARY:Badegäste Di./Do.
END:VEVENT
END:VCALENDAR
