BEGIN:VCALENDAR
VERSION:2.0
PRODID:-//pretix//pretix-PROD_Wien//
BEGIN:VEVENT
UID:pretix-baeder-ottakring-74228@ticket.wien.gv.at
DTSTART;VALUE=DATE:20251128
DTEND;VALUE=DATE:20251129
DESCRIPTION:Tickets: https://ticket.wien.gv.at/baeder/ottakring/74228/\nVer
 anstalter: MA 44 Wiener Bäder
DTSTAMP:20260421T052744Z
SUMMARY:Badegäste Fr.
END:VEVENT
END:VCALENDAR
