BEGIN:VCALENDAR
VERSION:2.0
PRODID:-//pretix//pretix-PROD_Wien//
BEGIN:VEVENT
UID:pretix-baeder-ottakring-7353@ticket.wien.gv.at
DTSTART;VALUE=DATE:20210929
DTEND;VALUE=DATE:20210930
DESCRIPTION:Tickets: https://ticket.wien.gv.at/baeder/ottakring/7353/\nVera
 nstalter: MA 44 Wiener Bäder
DTSTAMP:20260420T005452Z
SUMMARY:Eintritt Ottakringer Bad
END:VEVENT
END:VCALENDAR
