BEGIN:VCALENDAR
VERSION:2.0
PRODID:-//pretix//pretix-PROD_Wien//
BEGIN:VEVENT
UID:pretix-baeder-ottakring-72837@ticket.wien.gv.at
DTSTART;VALUE=DATE:20251022
DTEND;VALUE=DATE:20251023
DESCRIPTION:Tickets: https://ticket.wien.gv.at/baeder/ottakring/72837/\nVer
 anstalter: MA 44 Wiener Bäder
DTSTAMP:20260421T190843Z
SUMMARY:Badegäste Mi.
END:VEVENT
END:VCALENDAR
