BEGIN:VCALENDAR
VERSION:2.0
PRODID:-//pretix//pretix-PROD_Wien//
BEGIN:VEVENT
UID:pretix-baeder-ottakring-72823@ticket.wien.gv.at
DTSTART;VALUE=DATE:20251021
DTEND;VALUE=DATE:20251022
DESCRIPTION:Tickets: https://ticket.wien.gv.at/baeder/ottakring/72823/\nVer
 anstalter: MA 44 Wiener Bäder
DTSTAMP:20260421T190842Z
SUMMARY:Badegäste Di./Do.
END:VEVENT
END:VCALENDAR
