BEGIN:VCALENDAR
VERSION:2.0
PRODID:-//pretix//pretix-PROD_Wien//
BEGIN:VEVENT
UID:pretix-baeder-ottakring-72327@ticket.wien.gv.at
DTSTART;VALUE=DATE:20251004
DTEND;VALUE=DATE:20251005
DESCRIPTION:Tickets: https://ticket.wien.gv.at/baeder/ottakring/72327/\nVer
 anstalter: MA 44 Wiener Bäder
DTSTAMP:20260420T063607Z
SUMMARY:Badegäste Sa.
END:VEVENT
END:VCALENDAR
