BEGIN:VCALENDAR
VERSION:2.0
PRODID:-//pretix//pretix-PROD_Wien//
BEGIN:VEVENT
UID:pretix-baeder-ottakring-72279@ticket.wien.gv.at
DTSTART;VALUE=DATE:20251002
DTEND;VALUE=DATE:20251003
DESCRIPTION:Tickets: https://ticket.wien.gv.at/baeder/ottakring/72279/\nVer
 anstalter: MA 44 Wiener Bäder
DTSTAMP:20260420T063608Z
SUMMARY:Badegäste Di./Do.
END:VEVENT
END:VCALENDAR
